BEGIN:VCALENDAR
VERSION:2.0
PRODID:-//eventon.com NONSGML v1.0//EN
CALSCALE:GREGORIAN
METHOD:PUBLISH
BEGIN:VEVENT
UID:69e8a6c7e2b04
DTSTAMP:20260422T104527
DTSTART:20260815
DTEND:20260907
TZID:Europe/Lisbon
LOCATION:
SUMMARY:Fiestas en Honor a Nuestra Señora del Pino
DESCRIPTION:Las Fiestas en Honor a Nuestra Señora la Virgen del Pino en El Paso se celebran cada año del 15 de agosto al 6 de septiembre (primer domingo de septiembre). Durante estas semanas el municipio desarrolla un amplio programa de actividades culturales\,  deportivas y festivas organizadas por el Ayuntamiento y[..]\nhttps://culturalapalma.com/eventos/fiestas-en-honor-a-nuestra-senora-del-pino/
URL:https://culturalapalma.com/eventos/fiestas-en-honor-a-nuestra-senora-del-pino/
END:VEVENT
END:VCALENDAR