BEGIN:VCALENDAR
VERSION:2.0
PRODID:-//eventon.com NONSGML v1.0//EN
CALSCALE:GREGORIAN
METHOD:PUBLISH
BEGIN:VEVENT
UID:69e8901a698fb
DTSTAMP:20260422T090842
DTSTART:20261114
DTEND:20261115
TZID:Europe/Lisbon
LOCATION:
SUMMARY:GastroTapas San Martín
DESCRIPTION:GastroTapas San Martín es una jornada gastronómica y de convivencia que tiene lugar en El Paso en torno a la festividad de San Martín en la Plaza Francisca de Gazmira desde media mañana hasta la noche. El Ayuntamiento de El Paso organiza este evento para poner en valor las costumbres populares[..]\nhttps://culturalapalma.com/eventos/gastrotapas-san-martin/
URL:https://culturalapalma.com/eventos/gastrotapas-san-martin/
END:VEVENT
END:VCALENDAR