BEGIN:VCALENDAR
VERSION:2.0
PRODID:-//eventon.com NONSGML v1.0//EN
CALSCALE:GREGORIAN
METHOD:PUBLISH
BEGIN:VEVENT
UID:69e8a6ac0070f
DTSTAMP:20260422T104500
DTSTART:20260522
DTEND:20260525
TZID:Europe/Lisbon
LOCATION:
SUMMARY:Fiestas de la Cruz de las Canales
DESCRIPTION:Las Fiestas de la Cruz de Las Canales\,  en el municipio de El Paso\,  forman parte de las celebraciones tradicionales vinculadas al mes de mayo en torno a la devoción a la Santa Cruz. Esta festividad\,  profundamente arraigada en el barrio de Las Canales\,  combina actos populares\,  deportivos y musicales[..]\nhttps://culturalapalma.com/eventos/fiestas-de-la-cruz-de-las-canales/
URL:https://culturalapalma.com/eventos/fiestas-de-la-cruz-de-las-canales/
END:VEVENT
END:VCALENDAR