BEGIN:VCALENDAR
VERSION:2.0
PRODID:-//eventon.com NONSGML v1.0//EN
CALSCALE:GREGORIAN
METHOD:PUBLISH
BEGIN:VEVENT
UID:69e8a678b11bf
DTSTAMP:20260422T104408
DTSTART:20260502
DTEND:20260503
TZID:Europe/Lisbon
LOCATION:
SUMMARY:Bajada de La Pepa
DESCRIPTION:La Bajada de La Pepa es uno de los actos más singulares y populares vinculados a las Fiestas de la Cruz de Las Canales\,  en el municipio de El Paso. Este evento festivo marca tradicionalmente el inicio de las celebraciones y consiste en el descenso simbólico de “La Pepa” desde[..]\nhttps://culturalapalma.com/eventos/bajada-de-la-pepa/
URL:https://culturalapalma.com/eventos/bajada-de-la-pepa/
END:VEVENT
END:VCALENDAR