BEGIN:VCALENDAR
VERSION:2.0
PRODID:-//eventon.com NONSGML v1.0//EN
CALSCALE:GREGORIAN
METHOD:PUBLISH
BEGIN:VEVENT
UID:69e8a67aefc83
DTSTAMP:20260422T104410
DTSTART:20261023T200000Z
DTEND:20261023T223000Z
TZID:Europe/Lisbon
LOCATION:
SUMMARY:Canarias Jazz Showroom
DESCRIPTION:El Canarias Jazz Showroom llega al municipio de El Paso el próximo 23 de octubre con una nueva cita dedicada al jazz hecho en Canarias. Este encuentro musical\,  creado con el propósito de promover y dar visibilidad a los proyectos jazzísticos del archipiélago\,  reúne a músicos y formaciones vinculadas a[..]\nhttps://culturalapalma.com/eventos/canarias-jazz-showroom/
URL:https://culturalapalma.com/eventos/canarias-jazz-showroom/
END:VEVENT
END:VCALENDAR