BEGIN:VCALENDAR
VERSION:2.0
PRODID:-//eventon.com NONSGML v1.0//EN
CALSCALE:GREGORIAN
METHOD:PUBLISH
BEGIN:VEVENT
UID:69e8902defcdf
DTSTAMP:20260422T090901
DTSTART:20260814
DTEND:20260822
TZID:Europe/Lisbon
LOCATION:
SUMMARY:Encuentro Hispanoamericano de Acuarelistas “Antonio González Suárez”
DESCRIPTION:El Encuentro Hispanoamericano de Acuarelistas “Antonio González Suárez” se celebra en el municipio de El Paso como una cita dedicada a la difusión y práctica de la pintura a la acuarela. Durante varios días\,  artistas procedentes de distintos países iberoamericanos y de diferentes puntos de España participan en actividades abiertas[..]\nhttps://culturalapalma.com/eventos/encuentro-hispanoamericano-de-acuarelistas-antonio-gonzalez-suarez/
URL:https://culturalapalma.com/eventos/encuentro-hispanoamericano-de-acuarelistas-antonio-gonzalez-suarez/
END:VEVENT
END:VCALENDAR