BEGIN:VCALENDAR
VERSION:2.0
PRODID:-//eventon.com NONSGML v1.0//EN
CALSCALE:GREGORIAN
METHOD:PUBLISH
BEGIN:VEVENT
UID:69e8a66944d98
DTSTAMP:20260422T104353
DTSTART:20260821
DTEND:20260827
TZID:Europe/Lisbon
LOCATION:
SUMMARY:Encuentro Internacional de Música “Ciudad de El Paso”
DESCRIPTION:Iniciativa cultural dedicada a la interpretación y difusión de la música en directo que reúne en el municipio de El Paso a intérpretes\,  formaciones y solistas procedentes de distintos lugares. A lo largo de varias jornadas se celebran conciertos abiertos al público en los que conviven diferentes estilos y repertorios\, [..]\nhttps://culturalapalma.com/eventos/encuentro-internacional-de-musica-ciudad-de-el-paso/
URL:https://culturalapalma.com/eventos/encuentro-internacional-de-musica-ciudad-de-el-paso/
END:VEVENT
END:VCALENDAR