BEGIN:VCALENDAR
VERSION:2.0
PRODID:-//eventon.com NONSGML v1.0//EN
CALSCALE:GREGORIAN
METHOD:PUBLISH
BEGIN:VEVENT
UID:69e8a69bd3e4d
DTSTAMP:20260422T104443
DTSTART:20260919
DTEND:20260920
TZID:Europe/Lisbon
LOCATION:
SUMMARY:Fiesta Cubana de Tazacorte
DESCRIPTION:La Fiesta Cubana de Tazacorte es una celebración popular que forma parte del programa festivo en honor a San Miguel Arcángel\,  patrón del municipio. Durante esta jornada\,  una de las calles principales del casco urbano se transforma en un espacio festivo ambientado con referencias a la cultura caribeña\,  en el[..]\nhttps://culturalapalma.com/eventos/fiesta-cubana-de-tazacorte/
URL:https://culturalapalma.com/eventos/fiesta-cubana-de-tazacorte/
END:VEVENT
END:VCALENDAR