BEGIN:VCALENDAR
VERSION:2.0
PRODID:-//eventon.com NONSGML v1.0//EN
CALSCALE:GREGORIAN
METHOD:PUBLISH
BEGIN:VEVENT
UID:69e8901c39f37
DTSTAMP:20260422T090844
DTSTART:20260815
DTEND:20260816
TZID:Europe/Lisbon
LOCATION:
SUMMARY:Fiesta de La Morena
DESCRIPTION:La Fiesta de La Morena es una celebración popular que tiene lugar en el Puerto de Tazacorte y que se ha consolidado como uno de los encuentros festivos más participativos del municipio. La fiesta nació en 2013 con la intención de rendir homenaje a las barqueras\,  mujeres que desempeñaron un[..]\nhttps://culturalapalma.com/eventos/fiesta-de-la-morena/
URL:https://culturalapalma.com/eventos/fiesta-de-la-morena/
END:VEVENT
END:VCALENDAR