BEGIN:VCALENDAR
VERSION:2.0
PRODID:-//eventon.com NONSGML v1.0//EN
CALSCALE:GREGORIAN
METHOD:PUBLISH
BEGIN:VEVENT
UID:69e88fb6e2ef5
DTSTAMP:20260422T090702
DTSTART:20260711
DTEND:20260712
TZID:Europe/Lisbon
LOCATION:
SUMMARY:Tradicional Baile de los Pescadores
DESCRIPTION:El Baile de los Pescadores es uno de los actos festivos tradicionales que forman parte del programa de las Fiestas en honor a Nuestra Señora del Carmen en el municipio de Tazacorte\,  patrona de los marineros y pescadores. Esta celebración tiene lugar en el entorno del Puerto y se configura[..]\nhttps://culturalapalma.com/eventos/tradicional-baile-de-los-pescadores/
URL:https://culturalapalma.com/eventos/tradicional-baile-de-los-pescadores/
END:VEVENT
END:VCALENDAR