BEGIN:VCALENDAR
VERSION:2.0
PRODID:-//eventon.com NONSGML v1.0//EN
CALSCALE:GREGORIAN
METHOD:PUBLISH
BEGIN:VEVENT
UID:69e88fb8e8578
DTSTAMP:20260422T090704
DTSTART:20261107
DTEND:20261108
TZID:Europe/Lisbon
LOCATION:
SUMMARY:Feria GastroRock
DESCRIPTION:La Feria GastroRock de Tazacorte es un evento que combina música en directo y propuestas gastronómicas en un ambiente festivo al aire libre. La iniciativa se celebra en la Plaza de España del municipio y reúne a grupos musicales que ofrecen conciertos de rock y versiones de bandas conocidas\,  mientras[..]\nhttps://culturalapalma.com/eventos/feria-gastrorock/
URL:https://culturalapalma.com/eventos/feria-gastrorock/
END:VEVENT
END:VCALENDAR