BEGIN:VCALENDAR
VERSION:2.0
PRODID:-//eventon.com NONSGML v1.0//EN
CALSCALE:GREGORIAN
METHOD:PUBLISH
BEGIN:VEVENT
UID:69e88f4f90898
DTSTAMP:20260422T090519
DTSTART:20260812T110000Z
DTEND:20260816T220000Z
TZID:Europe/Lisbon
LOCATION:
SUMMARY:37ª Feria Insular de Artesanía
DESCRIPTION:La Feria Insular de Artesanía de La Palma reúne a artesanos y artesanas de la isla en un espacio dedicado a la creación\,  la tradición y el producto local. La feria muestra una amplia representación de oficios como la cerámica\,  el bordado o la cestería\,  poniendo en valor el saber[..]\nhttps://culturalapalma.com/eventos/37a-feria-insular-de-artesania/
URL:https://culturalapalma.com/eventos/37a-feria-insular-de-artesania/
END:VEVENT
END:VCALENDAR