BEGIN:VCALENDAR
VERSION:2.0
PRODID:-//eventon.com NONSGML v1.0//EN
CALSCALE:GREGORIAN
METHOD:PUBLISH
BEGIN:VEVENT
UID:69e88f7f9152a
DTSTAMP:20260422T090607
DTSTART:20260425T120000Z
DTEND:20260425T190000Z
TZID:Europe/Lisbon
LOCATION:
SUMMARY:XV Feria Insular del Vino de La Palma - FIVIPAL
DESCRIPTION:La Plaza de España de Los Llanos de Aridane acoge la XV edición de la Feria Insular del Vino de La Palma\,  una cita consolidada que pone en valor la tradición vitivinícola de la isla y el trabajo de sus bodegas. El evento ofrece la oportunidad de degustar una amplia[..]\nhttps://culturalapalma.com/eventos/xv-feria-insular-del-vino-de-la-palma-fivipal/
URL:https://culturalapalma.com/eventos/xv-feria-insular-del-vino-de-la-palma-fivipal/
END:VEVENT
END:VCALENDAR