BEGIN:VCALENDAR
VERSION:2.0
PRODID:-//eventon.com NONSGML v1.0//EN
CALSCALE:GREGORIAN
METHOD:PUBLISH
BEGIN:VEVENT
UID:69e88f817e054
DTSTAMP:20260422T090609
DTSTART:20260424T200000Z
DTEND:20260424T220000Z
TZID:Europe/Lisbon
LOCATION:
SUMMARY:Presentación del libro “La Calle Real de Los Llanos de Aridane. Vida y sociedad. Siglos XVI-XX”\,  de Jesús Pérez Morera
DESCRIPTION:El Espacio Cultural Real 21 acoge la presentación de esta obra de Jesús Pérez Morera\,  un recorrido por la evolución histórica\,  social y urbana de la Calle Real de Los Llanos de Aridane a lo largo de varios siglos\,  poniendo en valor su papel como eje fundamental en la vida[..]\nhttps://culturalapalma.com/eventos/presentacion-del-libro-la-calle-real-de-los-llanos-de-aridane-vida-y-sociedad-siglos-xvi-xx-de-jesus-perez-morera/
URL:https://culturalapalma.com/eventos/presentacion-del-libro-la-calle-real-de-los-llanos-de-aridane-vida-y-sociedad-siglos-xvi-xx-de-jesus-perez-morera/
END:VEVENT
END:VCALENDAR