BEGIN:VCALENDAR
VERSION:2.0
PRODID:-//eventon.com NONSGML v1.0//EN
CALSCALE:GREGORIAN
METHOD:PUBLISH
BEGIN:VEVENT
UID:69e88f77ae6e7
DTSTAMP:20260422T090559
DTSTART:20260425T170000Z
DTEND:20260426T005900Z
TZID:Europe/Lisbon
LOCATION:
SUMMARY:Romería Cruz del Palo Podrido 2026
DESCRIPTION:La Villa de Mazo celebra una nueva edición de la Romería de la Cruz del Palo Podrido\,  una cita tradicional que recorre el Camino del Palo Podrido hasta el Colegio Público de Montes de Luna. La jornada contará con ambiente festivo y música popular en directo con las parrandas La[..]\nhttps://culturalapalma.com/eventos/romeria-cruz-del-palo-podrido-2026/
URL:https://culturalapalma.com/eventos/romeria-cruz-del-palo-podrido-2026/
END:VEVENT
END:VCALENDAR