BEGIN:VCALENDAR
VERSION:2.0
PRODID:-//eventon.com NONSGML v1.0//EN
CALSCALE:GREGORIAN
METHOD:PUBLISH
BEGIN:VEVENT
UID:69e88f7b5f429
DTSTAMP:20260422T090603
DTSTART:20260424T200000Z
DTEND:20260424T220000Z
TZID:Europe/Lisbon
LOCATION:
SUMMARY:X Ciclo de Narración Oral Villa de Mazo – La Solera Cuenta - Marianexy Yanes y Levis Aliaga
DESCRIPTION:La Casa Roja acoge una nueva sesión del ciclo “La Solera Cuenta” con la participación de Marianexy Yanes y Levis Aliaga\,  que presentan Toda una vida\,  una propuesta escénica que combina narración oral y música en directo. La actividad forma parte de este ciclo dedicado al arte de contar historias[..]\nhttps://culturalapalma.com/eventos/x-ciclo-de-narracion-oral-villa-de-mazo-la-solera-cuenta-marianexy-yanes-y-levis-aliaga/
URL:https://culturalapalma.com/eventos/x-ciclo-de-narracion-oral-villa-de-mazo-la-solera-cuenta-marianexy-yanes-y-levis-aliaga/
END:VEVENT
END:VCALENDAR