BEGIN:VCALENDAR
VERSION:2.0
PRODID:-//eventon.com NONSGML v1.0//EN
CALSCALE:GREGORIAN
METHOD:PUBLISH
BEGIN:VEVENT
UID:69e88f5b6ab81
DTSTAMP:20260422T090531
DTSTART:20260529T190000Z
DTEND:20260530T000000Z
TZID:Europe/Lisbon
LOCATION:
SUMMARY:Cine y Territorio
DESCRIPTION:Encuentro abierto en torno al audiovisual y su relación con el paisaje de La Palma. La jornada incluye mesa de debate con cineastas\,  proyecciones\,  experiencia audiovisual en entorno rural y actividades participativas\,  además de un espacio de convivencia con comida popular.\nhttps://culturalapalma.com/eventos/cine-y-territorio/
URL:https://culturalapalma.com/eventos/cine-y-territorio/
END:VEVENT
END:VCALENDAR