BEGIN:VCALENDAR
VERSION:2.0
PRODID:-//eventon.com NONSGML v1.0//EN
CALSCALE:GREGORIAN
METHOD:PUBLISH
BEGIN:VEVENT
UID:69e8a606e1ca9
DTSTAMP:20260422T104214
DTSTART:20260808T210000Z
DTEND:20260809T000000Z
TZID:Europe/Lisbon
LOCATION:
SUMMARY:Pablo Alborán en La Palma
DESCRIPTION:El artista Pablo Alborán actuará en Santa Cruz de La Palma dentro de su “Global Tour Km0”\,  en un concierto previsto para el 8 de agosto de 2026 en el recinto portuario de la capital insular. El reconocido cantante y compositor malagueño presentará en directo su repertorio más reciente junto[..]\nhttps://culturalapalma.com/eventos/pablo-alboran-en-la-palma/
URL:https://culturalapalma.com/eventos/pablo-alboran-en-la-palma/
END:VEVENT
END:VCALENDAR