BEGIN:VCALENDAR
VERSION:2.0
PRODID:-//eventon.com NONSGML v1.0//EN
CALSCALE:GREGORIAN
METHOD:PUBLISH
BEGIN:VEVENT
UID:69e8a647cea6e
DTSTAMP:20260422T104319
DTSTART:20260828T200000Z
DTEND:20260829T000000Z
TZID:Europe/Lisbon
LOCATION:
SUMMARY:Rock & Road Van_xperience
DESCRIPTION:El Puerto Espíndola\,  en el municipio de San Andrés y Sauces\,  acoge el próximo 28 de agosto el evento Rock &amp; Road Van_xperience\,  una propuesta musical que reúne a destacadas figuras del panorama nacional. El cartel está encabezado por Celtas Cortos\,  en el marco de su gira “40 años contando[..]\nhttps://culturalapalma.com/eventos/rock-road-van_xperience/
URL:https://culturalapalma.com/eventos/rock-road-van_xperience/
END:VEVENT
END:VCALENDAR