BEGIN:VCALENDAR
VERSION:2.0
PRODID:-//eventon.com NONSGML v1.0//EN
CALSCALE:GREGORIAN
METHOD:PUBLISH
BEGIN:VEVENT
UID:69e88f9f2b87e
DTSTAMP:20260422T090639
DTSTART:20260417
DTEND:20260430
TZID:Europe/Lisbon
LOCATION:
SUMMARY:José Clavijo y Fajardo. 300º aniversario
DESCRIPTION:La Sociedad La Investigadora acoge la exposición “José Clavijo y Fajardo. 300º aniversario”\,  una muestra dedicada a una de las figuras más relevantes de la Ilustración canaria. La propuesta podrá visitarse del 17 de abril al 29 de mayo de 2026 en Santa Cruz de La Palma. &nbsp;\nhttps://culturalapalma.com/eventos/jose-clavijo-y-fajardo-300o-aniversario/
URL:https://culturalapalma.com/eventos/jose-clavijo-y-fajardo-300o-aniversario/
END:VEVENT
END:VCALENDAR