BEGIN:VCALENDAR
VERSION:2.0
PRODID:-//eventon.com NONSGML v1.0//EN
CALSCALE:GREGORIAN
METHOD:PUBLISH
BEGIN:VEVENT
UID:69e8a8f5cbdb2
DTSTAMP:20260422T105445
DTSTART:20260420
DTEND:20260430
TZID:Europe/Lisbon
LOCATION:
SUMMARY:La Palma en el 400º aniversario del Hermano Pedro
DESCRIPTION:La Sociedad La Investigadora presenta la exposición “La Palma en el 400º aniversario del Hermano Pedro”\,  una propuesta conmemorativa dedicada a una de las figuras más universales de la historia de Canarias. La muestra podrá visitarse del 20 de abril al 29 de mayo de 2026 en Santa Cruz de[..]\nhttps://culturalapalma.com/eventos/la-palma-en-el-400o-aniversario-del-hermano-pedro/
URL:https://culturalapalma.com/eventos/la-palma-en-el-400o-aniversario-del-hermano-pedro/
END:VEVENT
END:VCALENDAR