BEGIN:VCALENDAR
VERSION:2.0
PRODID:-//eventon.com NONSGML v1.0//EN
CALSCALE:GREGORIAN
METHOD:PUBLISH
BEGIN:VEVENT
UID:69e88fc93b585
DTSTAMP:20260422T090721
DTSTART:20260422T180000Z
DTEND:20260422T210000Z
TZID:Europe/Lisbon
LOCATION:
SUMMARY:Visita guiada: La ciudad en el museo. Foro de Arte Contemporáneo
DESCRIPTION:El municipio de Los Llanos de Aridane acoge una visita guiada gratuita vinculada al proyecto La ciudad en el museo\,  en el marco del Foro de Arte Contemporáneo. La actividad propone un recorrido interpretativo por distintas intervenciones artísticas en el espacio urbano\,  conectando arte contemporáneo y paisaje cotidiano. La visita[..]\nhttps://culturalapalma.com/eventos/visita-guiada-la-ciudad-en-el-museo-foro-de-arte-contemporaneo/
URL:https://culturalapalma.com/eventos/visita-guiada-la-ciudad-en-el-museo-foro-de-arte-contemporaneo/
END:VEVENT
END:VCALENDAR