BEGIN:VCALENDAR
VERSION:2.0
PRODID:-//eventon.com NONSGML v1.0//EN
CALSCALE:GREGORIAN
METHOD:PUBLISH
BEGIN:VEVENT
UID:69e8a668b71d0
DTSTAMP:20260422T104352
DTSTART:20260425T200000Z
DTEND:20260425T210000Z
TZID:Europe/Lisbon
LOCATION:
SUMMARY:Concierto de David DeMaría - Cadena Dial
DESCRIPTION:El Teatro Circo de Marte\,  en Santa Cruz de La Palma\,  acoge el concierto del cantante y compositor David DeMaría\,  una de las voces más reconocidas del panorama musical español. Con una trayectoria consolidada\,  el artista llega a la isla con una propuesta en directo que combina pop\,  balada y[..]\nhttps://culturalapalma.com/eventos/concierto-de-david-demaria-cadena-dial/
URL:https://culturalapalma.com/eventos/concierto-de-david-demaria-cadena-dial/
END:VEVENT
END:VCALENDAR