BEGIN:VCALENDAR
VERSION:2.0
PRODID:-//eventon.com NONSGML v1.0//EN
CALSCALE:GREGORIAN
METHOD:PUBLISH
BEGIN:VEVENT
UID:69e8a6675d21b
DTSTAMP:20260422T104351
DTSTART:20260828T093900Z
DTEND:20260831T103900Z
TZID:Europe/Lisbon
LOCATION:
SUMMARY:Fiestas en honor a Nuestra Señora del Perpetuo Socorro
DESCRIPTION:El barrio de El Socorro\,  en Breña Baja\,  celebra sus tradicionales fiestas en honor a Nuestra Señora del Perpetuo Socorro\,  una de las citas más representativas del verano palmero. Durante varios días\,  el programa combina actos religiosos\,  propuestas culturales y música en vivo\,  en un ambiente que reúne a vecinos[..]\nhttps://culturalapalma.com/eventos/fiestas-en-honor-a-nuestra-senora-del-perpetuo-socorro/
URL:https://culturalapalma.com/eventos/fiestas-en-honor-a-nuestra-senora-del-perpetuo-socorro/
END:VEVENT
END:VCALENDAR