BEGIN:VCALENDAR
VERSION:2.0
PRODID:-//eventon.com NONSGML v1.0//EN
CALSCALE:GREGORIAN
METHOD:PUBLISH
BEGIN:VEVENT
UID:69e892ef1d1e1
DTSTAMP:20260422T092047
DTSTART:20260420T200000Z
DTEND:20260420T223000Z
TZID:Europe/Lisbon
LOCATION:
SUMMARY:Acto conmemorativo I Centenario de Leocricia Pestana Fierro
DESCRIPTION:El Salón Noble de la Real Sociedad Cosmológica de Santa Cruz de La Palma acoge el acto de conmemoración del centenario de Leocricia Pestana Fierro\,  una figura destacada vinculada al ámbito cultural e intelectual de la isla. La cita reunirá a diversas voces del ámbito institucional y cultural en un[..]\nhttps://culturalapalma.com/eventos/acto-conmemorativo-i-centenario-de-leocricia-pestana-fierro/
URL:https://culturalapalma.com/eventos/acto-conmemorativo-i-centenario-de-leocricia-pestana-fierro/
END:VEVENT
END:VCALENDAR