BEGIN:VCALENDAR
VERSION:2.0
PRODID:-//eventon.com NONSGML v1.0//EN
CALSCALE:GREGORIAN
METHOD:PUBLISH
BEGIN:VEVENT
UID:69e8a604c15bc
DTSTAMP:20260422T104212
DTSTART:20260423T200000Z
DTEND:20260423T220000Z
TZID:Europe/Lisbon
LOCATION:
SUMMARY:Piélago – Félix Morales
DESCRIPTION:El Espacio Cultural CajaCanarias de Santa Cruz de La Palma acoge el concierto Piélago\,  una propuesta musical de Félix Morales incluida en el ciclo Primavera en la Fundación 2026. Una cita con la música en directo que invita a disfrutar de una experiencia sonora íntima en uno de los espacios[..]\nhttps://culturalapalma.com/eventos/pielago-felix-morales/
URL:https://culturalapalma.com/eventos/pielago-felix-morales/
END:VEVENT
END:VCALENDAR