BEGIN:VCALENDAR
VERSION:2.0
PRODID:-//eventon.com NONSGML v1.0//EN
CALSCALE:GREGORIAN
METHOD:PUBLISH
BEGIN:VEVENT
UID:69e8a5437705f
DTSTAMP:20260422T103859
DTSTART:20260430T200000Z
DTEND:20260430T223000Z
TZID:Europe/Lisbon
LOCATION:
SUMMARY:Ancor Miranda Quartet – Cajacanarias Jazz Café 2026
DESCRIPTION:El Espacio Cultural CajaCanarias de Santa Cruz de La Palma acoge una nueva cita del ciclo Cajacanarias Jazz Café 2026 con la actuación de Ancor Miranda Quartet. Una propuesta de jazz en directo que forma parte de la programación musical de la Fundación CajaCanarias\,  ofreciendo al público una experiencia cercana[..]\nhttps://culturalapalma.com/eventos/ancor-miranda-quartet-cajacanarias-jazz-cafe-2026/
URL:https://culturalapalma.com/eventos/ancor-miranda-quartet-cajacanarias-jazz-cafe-2026/
END:VEVENT
END:VCALENDAR