BEGIN:VCALENDAR
VERSION:2.0
PRODID:-//eventon.com NONSGML v1.0//EN
CALSCALE:GREGORIAN
METHOD:PUBLISH
BEGIN:VEVENT
UID:69e88fb49c1f1
DTSTAMP:20260422T090700
DTSTART:20260418T110000Z
DTEND:20260419T000000Z
TZID:Europe/Lisbon
LOCATION:
SUMMARY:Expovida - Tijarafe
DESCRIPTION:El municipio de Tijarafe acoge una nueva edición de Expovida\,  que conmemora su vigésimo aniversario con un programa centrado en la gastronomía\,  el producto de proximidad y la dinamización del entorno rural. La jornada se desarrollará en la Plaza de Nuestra Señora de Candelaria e incluirá actuaciones musicales\,  catas y[..]\nhttps://culturalapalma.com/eventos/expovida-tijarafe/
URL:https://culturalapalma.com/eventos/expovida-tijarafe/
END:VEVENT
END:VCALENDAR